Workbook
Name _Hlk208316260: 'Approved Practices'!$A$4
Name List_Approved_Practices: Table6[Practices]
Name List_Early_Learning_Programs: Program_Early_Learning[Program]
Name List_Math_Programs: Programs_Math[Program]
Name List_Other_Programs: Program_Other[Program]
Name List_Program_Types: DDL_Programs[programCategoryName]
Name List_Provisional_Programs: Provisonal_Program[Program]
Name List_Reading_Programs: Programs_Reading[Program*]
Name List_Screeners_Programs: Program_Screeners[Screener]
Name PlaceHolder: Table9[Program]

Sheet USD Lookup
A1: Org Number | B1: County Name | C1: USD Name
A2: D0101 | B2: Neosho | C2: Erie-Galesburg
A3: D0102 | B3: Gray | C3: Cimarron-Ensign
A4: D0103 | B4: Cheyenne | C4: Cheylin
A5: D0105 | B5: Rawlins | C5: Rawlins County
A6: D0106 | B6: Ness | C6: Western Plains
A7: D0107 | B7: Jewell | C7: Rock Hills
A8: D0108 | B8: Washington | C8: Washington Co. Schools
A9: D0109 | B9: Republic | C9: Republic County
A10: D0110 | B10: Phillips | C10: Thunder Ridge Schools
A11: D0111 | B11: Doniphan | C11: Doniphan West Schools
A12: D0112 | B12: Ellsworth | C12: Central Plains
... A287: D0512 | B287: Johnson | C287: Shawnee Mission Pub Sch

Sheet Instructions
A2: Adding a Provisional
A4: Go to Provisional Program worksheet tab.
A5: Add your provisionals under program and the company associated with the provisional
A6: Type out as many as you need underneath each row beneath associated datas column
A8: Warning: Do not mess with the columns or spacing.
A20: This will add the programs to the drop down list
A21: Select provisional programs as the category
A22: All provisional items will be added to the type of evidence based at risk educational program
A23: in the future, the State will review then add them to the qualifying category

Sheet Provisional Program
A1: Provisional
A2: Program | B2: Company
A3: Test Provisional | B3: Test Learning
A4: Test Test | B4: Test Test Company

Sheet Evidence Based Expenditures
C1: At-Risk Financial Accountability Plan
C2: Required Expenditure Report (KSA 72-3574 (j)(1)(C))
C3: 2025-2026 School Year
A5: Contact Name: | E5: KSA 72-3574 | I5: Org Number (enter as D0###)
E6: `
A7: Contact Number: | G7: =VLOOKUP(H5,'USD Lookup'!A2:C287,3) -> #N/A | I7: Org Name (Lookup)
A9: Contact Email: | G9: =VLOOKUP(H5,'USD Lookup'!A2:C287,2) -> #N/A | I9: County Name (Lookup)
A12: REQUIRED INFORMATION TOTAL EXPENDITURES BY INTERVENTION PROGRAM | F12: ITEMIZED EXPENDITURES (Optional) (Enter as Whole Dollars) | L12: Optional
A13: Category | C13: Evidence-Based Programs | E13: Total At-Risk Expenditures Per Evidence-Based Program | F13: Salary & Benefits Expenditures for Eligible Staff | G13: Subscriptions & Maintenance | H13: Supplies, Materials & Textbooks | I13: Professional Development | J13: Transportation | K13: Other | L13: At-Risk Students Served (Headcount)
A14: State | C14: State Totals | E14: =SUM(E15:E75) -> 0 | F14: =SUM(F15:F75) -> 0 | G14: =SUM(G15:G75) -> 0 | H14: =SUM(H15:H75) -> 0 | I14: =SUM(I15:I75) -> 0 | J14: =SUM(J15:J75) -> 0 | K14: =SUM(K15:K75) -> 0 | L14: =SUM(L15:L75) -> 0
B15: =HYPERLINK("#" & ADDRESS(ROW(),COLUMN()-1),CHAR(128)) -> € | D15: =HYPERLINK("#" & ADDRESS(ROW(),COLUMN()-1),CHAR(128)) -> € | E15: =SUM(F15:K15) -> 0
B16: =HYPERLINK("#" & ADDRESS(ROW(),COLUMN()-1),CHAR(128)) -> € | D16: =HYPERLINK("#" & ADDRESS(ROW(),COLUMN()-1),CHAR(128)) -> € | E16: =SUM(F16:K16) -> 0
B17: =HYPERLINK("#" & ADDRESS(ROW(),COLUMN()-1),CHAR(128)) -> € | D17: =HYPERLINK("#" & ADDRESS(ROW(),COLUMN()-1),CHAR(128)) -> € | E17: =SUM(F17:K17) -> 0
B18: =HYPERLINK("#" & ADDRESS(ROW(),COLUMN()-1),CHAR(128)) -> € | D18: =HYPERLINK("#" & ADDRESS(ROW(),COLUMN()-1),CHAR(128)) -> € | E18: =SUM(F18:K18) -> 0
B19: =HYPERLINK("#" & ADDRESS(ROW(),COLUMN()-1),CHAR(128)) -> € | D19: =HYPERLINK("#" & ADDRESS(ROW(),COLUMN()-1),CHAR(128)) -> € | E19: =SUM(F19:K19) -> 0
B20: =HYPERLINK("#" & ADDRESS(ROW(),COLUMN()-1),CHAR(128)) -> € | D20: =HYPERLINK("#" & ADDRESS(ROW(),COLUMN()-1),CHAR(128)) -> € | E20: =SUM(F20:K20) -> 0
B21: =HYPERLINK("#" & ADDRESS(ROW(),COLUMN()-1),CHAR(128)) -> € | D21: =HYPERLINK("#" & ADDRESS(ROW(),COLUMN()-1),CHAR(128)) -> € | E21: =SUM(F21:K21) -> 0
B22: =HYPERLINK("#" & ADDRESS(ROW(),COLUMN()-1),CHAR(128)) -> € | D22: =HYPERLINK("#" & ADDRESS(ROW(),COLUMN()-1),CHAR(128)) -> € | E22: =SUM(F22:K22) -> 0
B23: =HYPERLINK("#" & ADDRESS(ROW(),COLUMN()-1),CHAR(128)) -> € | D23: =HYPERLINK("#" & ADDRESS(ROW(),COLUMN()-1),CHAR(128)) -> € | E23: =SUM(F23:K23) -> 0
B24: =HYPERLINK("#" & ADDRESS(ROW(),COLUMN()-1),CHAR(128)) -> € | D24: =HYPERLINK("#" & ADDRESS(ROW(),COLUMN()-1),CHAR(128)) -> € | E24: =SUM(F24:K24) -> 0
B25: =HYPERLINK("#" & ADDRESS(ROW(),COLUMN()-1),CHAR(128)) -> € | D25: =HYPERLINK("#" & ADDRESS(ROW(),COLUMN()-1),CHAR(128)) -> € | E25: =SUM(F25:K25) -> 0
B26: =HYPERLINK("#" & ADDRESS(ROW(),COLUMN()-1),CHAR(128)) -> € | D26: =HYPERLINK("#" & ADDRESS(ROW(),COLUMN()-1),CHAR(128)) -> € | E26: =SUM(F26:K26) -> 0
... B72: =HYPERLINK("#" & ADDRESS(ROW(),COLUMN()-1),CHAR(128)) -> € | D72: =HYPERLINK("#" & ADDRESS(ROW(),COLUMN()-1),CHAR(128)) -> € | E72: =SUM(F72:K72) -> 0
B73: =HYPERLINK("#" & ADDRESS(ROW(),COLUMN()-1),CHAR(128)) -> € | D73: =HYPERLINK("#" & ADDRESS(ROW(),COLUMN()-1),CHAR(128)) -> € | E73: 0
B74: =HYPERLINK("#" & ADDRESS(ROW(),COLUMN()-1),CHAR(128)) -> € | D74: =HYPERLINK("#" & ADDRESS(ROW(),COLUMN()-1),CHAR(128)) -> € | E74: 0
B75: =HYPERLINK("#" & ADDRESS(ROW(),COLUMN()-1),CHAR(128)) -> € | D75: =HYPERLINK("#" & ADDRESS(ROW(),COLUMN()-1),CHAR(128)) -> € | E75: 0

Sheet Programs-Reading
A1: Reading and English Language Arts
A2: Program* | B2: Grades | C2: Company | D2: isSupportingEnglishLearn
A4: 95 Phonics Core Program* | B4: K – 5 | C4: 95 Percent Group | D4: 1
A5: Achieve 3000 – Empower | B5: 9 – 12 | C5: McGraw Hill | D5: 0
A6: Achieve 3000 – TeenBiz3000 | B6: 6 – 8 | C6: McGraw Hill | D6: 0
A7: AIM Pathways to Proficient Reading | C7: AIM Institute for Learning | D7: 0
A8: Amplify CKLA | B8: K-5 | C8: Amplify Education, INC
A9: Blast Foundations | B9: 1-5 | C9: Really Great Reading
A10: Burst Reading (now: mCLASS Intervention)* | B10: K – 3 | C10: Amplify | D10: 1
A11: Corrective Reading – Beginning Reading | B11: 3 – 5 | C11: McGraw Hill | D11: 0
A12: Countdown
A13: Fast ForWord* | B13: 5 – 6 | C13: Carnegie Learning | D13: 1
A14: Flashlight360* | B14: 1 – 12 | C14: Flashlight Learning | D14: 1
A15: HD Word
A16: Heggerty’s Bridge to Reading* | B16: K –3 | C16: Heggerty | D16: 1
A17: HMH Amira Learning | B17: 1 – 4 | C17: Literacy Resources, LLC | D17: 0
A18: Imagine Language and Literacy into Reading* | B18: PreK – 6 | C18: Imagine Learning | D18: 1
A19: Into Reading | B19: K – 6 | C19: HMH | D19: 0
A20: i-Ready Personalized Instruction Reading* | B20: K – 8 | C20: Curriculum Associates | D20: 1
A21: IStation Reading – Elementary* | B21: PK – 8 | C21: Amira Learning | D21: 1
A22: Journeys Reading Program* | B22: K – 6 | C22: Houghton Mifflin Harcourt | D22: 1
A23: Keys to Beginning Reading | C23: Keys to Literacy | D23: 0
A24: Language Essentials for Teachers of Reading and Spelling® | C24: LETRS® | D24: 0
A25: Lexia Core Power Up Program – Struggling Readers | B25: 6 – 12 | C25: Lexia | D25: 0
A26: Lexia Core 5 Reading Program – Struggling Readers | B26: K – 5 | C26: Lexia | D26: 0
A27: Lindamood Phoneme Sequencing | B27: K – 2 | C27: Lindamood Bell | D27: 0
A28: mCLASS Intervention* | B28: K –6 | C28: Amplify | D28: 1
A29: myPerspectives ELA* | B29: 6 – 12 | C29: Savvas Learning Company | D29: 1
A30: QuickReads-Struggling Readers* | B30: 2 – 5 | C30: Savvas Learning Company | D30: 1
A31: Open Court Reading | B31: K – 6 | C31: McGraw Hill | D31: 0
A32: Pathways to Reading | B32: K – 2 | C32: Pathways to Reading, Inc. | D32: 0
A33: Raz Plus | B33: K – 5 | C33: Learning A to Z | D33: 0
A34: Read 180 | B34: 4 – 12 | C34: Houghton Mifflin Harcourt | D34: 0
A35: Read Naturally | B35: K – 8 | C35: Read Naturally, Inc. | D35: 0
A36: Reading Mastery | B36: K – 3 | C36: McGraw Hill | D36: 0
... A44: Wilson Reading System | B44: PK – 6 | C44: Savvas Learning Company | D44: 0
A45: WordFlight
A46: Words Their Way Classroom | B46: K – 5 | C46: Savvas Learning Company | D46: 0

Sheet Configuration
A1: CategoryText | B1: DataSourceListName
B2: PlaceHolder
A3: Reading and English Language Arts | B3: List_Reading_Programs
A4: Math Programs | B4: List_Math_Programs
A5: Early Learning Programs | B5: List_Early_Learning_Programs
A6: State Approved Universal Screeners | B6: List_Screeners_Programs
A7: Other Approved Programs | B7: List_Other_Programs
A8: Approved Practices | B8: List_Approved_Practices
A9: Provisional Programs | B9: List_Provisional_Programs

Sheet DDL-Program Types
A1: Program Category Dropdown List
A3: programCategoryName | B3: workBookOrder | C3: pdfOrder
B4: 0 | C4: 0
A5: Reading and English Language Arts | B5: 1 | C5: 1
A6: Math Programs | B6: 2 | C6: 3
A7: Early Learning Programs | B7: 3 | C7: 4
A8: State Approved Universal Screeners | B8: 4 | C8: 2
A9: Other Approved Programs | B9: 5 | C9: 5
A10: Approved Practices | B10: 6 | C10: 6
A11: Provisional Programs | B11: 7 | C11: 7
A14: Reading and English Language Arts
A15: Math Programs
A16: Early Learning Programs
A17: State Approved Universal Screeners
A18: Other Approved Programs

Sheet Programs-Math
A1: Math Programs
A2: Program | B2: Grades | C2: Company
A4: Bridges in Mathematics | B4: PreK – 5 | C4: The Math Learning Center
A5: Cognitive Tutor Algebra I | B5: 9 – 12 | C5: Carnegie Learning
A6: DreamBox Math | B6: K – 5 | C6: Discovery Education
A7: HMH Math 180 | B7: 3 - 12
A8: Imagine Math | B8: K – 8 | C8: Imagine Learning
A9: iReady Personalized Instruction Math | B9: K – 8 | C9: Curriculum Associates
A10: IXL Math | B10: PreK – 12 | C10: IXL Learning
A11: Odyssey Math | B11: K – 8 | C11: Compass Learning
A12: Pirate Math | B12: 3 | C12: Equation Quest
A13: SpringMath | B13: K – 8 | C13: SpringMath
A14: Symphony Math | B14: K – 8 | C14: Symphony Learning
A15: TouchMath Standards Edition | C15: TouchMath Acquisition LLC
A16: Zearn Math | B16: K – 5 | C16: Zearn

Sheet Programs- Approved Screeners
A1: State Approved Universal Screeners
A2: Screener | B2: Company
A4: Acadience | B4: Acadience Learning
A5: AimsPlus | B5: Pearson Assessments
A6: DIBELS | B6: Amplify
A7: Early Reading/Star | B7: Renaissance
A8: EasyCBM | B8: Riverside Insights
A9: FastBridge | B9: Renaissance
A10: iReady | B10: Curriculum Associates
A11: Kansas Alternate Early Literacy Screener

Sheet Programs- Early Learning
A1: Early Learning Programs
A2: Program | B2: Company
A4: Ages and Stages Questionnaire 3rd Edition | B4: Brookes Publishing
A5: Ages and Stages Social-Emotional 2nd Edition | B5: Brookes Publishing
A6: Connect4Learning PreK | B6: Kaplan
A7: Core Knowledge Preschool Sequence | B7: Core Knowledge Foundation
A8: Curiosity Corner PreK | B8: Success for All
A9: Head Start | B9: Specific PreK Model
A10: High Scope PreK | B10: High Scope
A11: Literacy Express PreK | B11: Literacy Express
A12: MyIGDI PreK | B12: Renaissance Learning
A13: Opening the World of Learning 2014 for PreK | B13: Savvas Learning Company
A14: Parents as Teachers | B14: Parents as Teachers National Center, Inc.
A15: The Opportunity Project PreK | B15: TOPS in Wichita

Sheet Programs-Other
A1: Other Approved Progams
A2: Program | B2: Company
A4: 7 Habits of Happy Kids | B4: Leader in Me
A5: AVID | B5: Achievement Via Individual Determination
A6: Career and Technical Education
A7: Caring School Community | B7: Center for Collaborative Classroom
A8: CHAMPS | B8: Safe & Civil Schools
A9: Character Strong Secondary | B9: Character Strong
A10: Gaining Early Awareness and Readiness for Undergraduate Programs | B10: GEAR UP
A11: Handwriting without Tears PreK – 6 | B11: Learning without Tears
A12: Jobs for America’s Graduates – Kansas | B12: JAG-K
A13: Mind UP | B13: Hawn Foundation
A14: Mosaic for K – 12 | B14: ACT
A15: Positive Action | B15: Positive Action, Inc.
A16: Second Step Elementary K – 5 | B16: Second Step
A17: Second Step Middle School 6 – 8 | B17: Second Step
A18: The Leader in Me | B18: Franklin Covey
... A21: Zones of Regulation | B21: Social Thinking, Inc.

Sheet Approved Practices
A1: Approved List of State At-Risk Evidence-Based Programs 2025
A2: Practices
A4: After School Homework Assistance
A5: Assisted Reading Practice
A6: Before-During-After Reading Strategy
A7: Behavior -Specific Praise
A8: Blended Learning
A9: Boys Town Social Skills (Lift with Boys Town Education)
A10: Character Development
A11: Character Education and Learning Skills (CELS)
A12: Check In/Check Out System (CICO)
A13: Class wide Peer Tutoring
... A85: Writing Workshops

Sheet Expenditures for Website
C1: KSA 72-3574
B2: At-Risk Student Accountability Plan
B3: Required Expenditure Report (KSA 72-3574 (j)(1)(C))
B4: 2025-2026 School Year
A7: Contact Name: | G7: Org Number (enter as D0###)
A9: Contact Number: | E9: =VLOOKUP(F7,'USD Lookup'!A2:C287,3) -> #N/A | G9: Org Name (Lookup)
A11: Contact Email: | E11: =VLOOKUP(F7,'USD Lookup'!A2:C287,2) -> #N/A | G11: County Name (Lookup)
A14: REQUIRED INFORMATION TOTAL EXPENDITURES BY INTERVENTION PROGRAM
A15: Category | B15: Evidence-Based At-Risk Educational Program | C15: Total At-Risk Expenditures Per Evidence-Based Program
A16: State | B16: State Totals | C16: =SUM(C17:C76) -> 0
A17: ='Evidence Based Expenditures'!A15 -> 0 | B17: ='Evidence Based Expenditures'!C15 -> 0 | C17: ='Evidence Based Expenditures'!E15 -> 0
A18: ='Evidence Based Expenditures'!A16 -> 0 | B18: ='Evidence Based Expenditures'!C16 -> 0 | C18: ='Evidence Based Expenditures'!E16 -> 0
A19: ='Evidence Based Expenditures'!A17 -> 0 | B19: ='Evidence Based Expenditures'!C17 -> 0 | C19: ='Evidence Based Expenditures'!E17 -> 0
A20: ='Evidence Based Expenditures'!A18 -> 0 | B20: ='Evidence Based Expenditures'!C18 -> 0 | C20: ='Evidence Based Expenditures'!E18 -> 0
A21: ='Evidence Based Expenditures'!A19 -> 0 | B21: ='Evidence Based Expenditures'!C19 -> 0 | C21: ='Evidence Based Expenditures'!E19 -> 0
A22: ='Evidence Based Expenditures'!A20 -> 0 | B22: ='Evidence Based Expenditures'!C20 -> 0 | C22: ='Evidence Based Expenditures'!E20 -> 0
A23: ='Evidence Based Expenditures'!A21 -> 0 | B23: ='Evidence Based Expenditures'!C21 -> 0 | C23: ='Evidence Based Expenditures'!E21 -> 0
A24: ='Evidence Based Expenditures'!A22 -> 0 | B24: ='Evidence Based Expenditures'!C22 -> 0 | C24: ='Evidence Based Expenditures'!E22 -> 0
A25: ='Evidence Based Expenditures'!A23 -> 0 | B25: ='Evidence Based Expenditures'!C23 -> 0 | C25: ='Evidence Based Expenditures'!E23 -> 0
A26: ='Evidence Based Expenditures'!A24 -> 0 | B26: ='Evidence Based Expenditures'!C24 -> 0 | C26: ='Evidence Based Expenditures'!E24 -> 0
A27: ='Evidence Based Expenditures'!A25 -> 0 | B27: ='Evidence Based Expenditures'!C25 -> 0 | C27: ='Evidence Based Expenditures'!E25 -> 0
A28: ='Evidence Based Expenditures'!A26 -> 0 | B28: ='Evidence Based Expenditures'!C26 -> 0 | C28: ='Evidence Based Expenditures'!E26 -> 0
... A76: ='Evidence Based Expenditures'!A74 -> 0 | B76: ='Evidence Based Expenditures'!C74 -> 0 | C76: ='Evidence Based Expenditures'!E74 -> 0

Sheet Program-Placeholder
A1: Program | B1: Company
B2: ------------------------------------------------------------------------
